BEGIN:VCALENDAR
VERSION:2.0
PRODID:-//A-I/O - ECPv6.15.20//NONSGML v1.0//EN
CALSCALE:GREGORIAN
METHOD:PUBLISH
X-ORIGINAL-URL:https://bmorga.profreed.com
X-WR-CALDESC:Events for A-I/O
REFRESH-INTERVAL;VALUE=DURATION:PT1H
X-Robots-Tag:noindex
X-PUBLISHED-TTL:PT1H
BEGIN:VTIMEZONE
TZID:America/Los_Angeles
BEGIN:DAYLIGHT
TZOFFSETFROM:-0800
TZOFFSETTO:-0700
TZNAME:PDT
DTSTART:20250309T100000
END:DAYLIGHT
BEGIN:STANDARD
TZOFFSETFROM:-0700
TZOFFSETTO:-0800
TZNAME:PST
DTSTART:20251102T090000
END:STANDARD
BEGIN:DAYLIGHT
TZOFFSETFROM:-0800
TZOFFSETTO:-0700
TZNAME:PDT
DTSTART:20260308T100000
END:DAYLIGHT
BEGIN:STANDARD
TZOFFSETFROM:-0700
TZOFFSETTO:-0800
TZNAME:PST
DTSTART:20261101T090000
END:STANDARD
BEGIN:DAYLIGHT
TZOFFSETFROM:-0800
TZOFFSETTO:-0700
TZNAME:PDT
DTSTART:20270314T100000
END:DAYLIGHT
BEGIN:STANDARD
TZOFFSETFROM:-0700
TZOFFSETTO:-0800
TZNAME:PST
DTSTART:20271107T090000
END:STANDARD
END:VTIMEZONE
BEGIN:VEVENT
DTSTART;TZID=America/Los_Angeles:20260825T130000
DTEND;TZID=America/Los_Angeles:20260825T150000
DTSTAMP:20260425T082243
CREATED:20260416T232633Z
LAST-MODIFIED:20260416T233016Z
UID:69-1787662800-1787670000@bmorga.profreed.com
SUMMARY:A-I/O Prompt Guide: Informational Meeting
DESCRIPTION:An informational meeting to help users learn how to prompt with A-I/O and how to best tailor it to personal businesses.
URL:https://bmorga.profreed.com/event/a-i-o-prompt-guide-informational-meeting/
END:VEVENT
BEGIN:VEVENT
DTSTART;TZID=America/Los_Angeles:20261015T010000
DTEND;TZID=America/Los_Angeles:20261015T163000
DTSTAMP:20260425T082243
CREATED:20260416T233438Z
LAST-MODIFIED:20260416T233438Z
UID:79-1792026000-1792081800@bmorga.profreed.com
SUMMARY:A-I/O Networking
DESCRIPTION:Join A-I/O and network your business with others who have similar interests and use for our service.
URL:https://bmorga.profreed.com/event/a-i-o-networking/
END:VEVENT
BEGIN:VEVENT
DTSTART;TZID=America/Los_Angeles:20261209T110000
DTEND;TZID=America/Los_Angeles:20261209T123000
DTSTAMP:20260425T082243
CREATED:20260416T233629Z
LAST-MODIFIED:20260416T233629Z
UID:81-1796814000-1796819400@bmorga.profreed.com
SUMMARY:A-I/O Presentation
DESCRIPTION:Learn how A-I/O is right for you\, and what you can do to take your business to the next level.
URL:https://bmorga.profreed.com/event/a-i-o-presentation/
END:VEVENT
END:VCALENDAR